BEGIN:VCALENDAR
VERSION:2.0
PRODID:-//Die Filminsel - komm. Kino Biblis e.V. - ECPv6.15.20//NONSGML v1.0//EN
CALSCALE:GREGORIAN
METHOD:PUBLISH
X-WR-CALNAME:Die Filminsel - komm. Kino Biblis e.V.
X-ORIGINAL-URL:https://filminsel-biblis.de
X-WR-CALDESC:Veranstaltungen für Die Filminsel - komm. Kino Biblis e.V.
REFRESH-INTERVAL;VALUE=DURATION:PT1H
X-Robots-Tag:noindex
X-PUBLISHED-TTL:PT1H
BEGIN:VTIMEZONE
TZID:Europe/Berlin
BEGIN:DAYLIGHT
TZOFFSETFROM:+0100
TZOFFSETTO:+0200
TZNAME:CEST
DTSTART:20250330T010000
END:DAYLIGHT
BEGIN:STANDARD
TZOFFSETFROM:+0200
TZOFFSETTO:+0100
TZNAME:CET
DTSTART:20251026T010000
END:STANDARD
BEGIN:DAYLIGHT
TZOFFSETFROM:+0100
TZOFFSETTO:+0200
TZNAME:CEST
DTSTART:20260329T010000
END:DAYLIGHT
BEGIN:STANDARD
TZOFFSETFROM:+0200
TZOFFSETTO:+0100
TZNAME:CET
DTSTART:20261025T010000
END:STANDARD
BEGIN:DAYLIGHT
TZOFFSETFROM:+0100
TZOFFSETTO:+0200
TZNAME:CEST
DTSTART:20270328T010000
END:DAYLIGHT
BEGIN:STANDARD
TZOFFSETFROM:+0200
TZOFFSETTO:+0100
TZNAME:CET
DTSTART:20271031T010000
END:STANDARD
END:VTIMEZONE
BEGIN:VEVENT
DTSTART;TZID=Europe/Berlin:20260513T200000
DTEND;TZID=Europe/Berlin:20260513T220000
DTSTAMP:20260422T123906
CREATED:20250807T132851Z
LAST-MODIFIED:20260327T081429Z
UID:2231-1778702400-1778709600@filminsel-biblis.de
SUMMARY:Lars Reichow - Wunschkonzert - AUSVERKAUFT
DESCRIPTION:WUNSCHKONZERT – BEST OF KLAVIATOR\nEs ist Zeit\, alles zu geben\, nichts zurückzuhalten. \nErst wenn das letzte Liebeslied erklungen ist\, wenn die letzte Pointe euer Zwerchfell erschüttert hat\, wenn der letzte Ton verklungen und die letzte Silbe gesprochen\, wenn alle Frauengeschichten gebeichtet\, wenn alle Männer entlarvt\, alle Haustiere vertont wurden\, wenn alle Politiker fachgerecht zerlegt worden sind\, wenn das letzte Wort gesprochen und der letzte Ton verklungen\, dann werdet ihr sehen\, dass kein Wunsch mehr offen geblieben ist – und kein Auge trocken. \n Man kann Reichow dabei zuschauen\, wie er sich selbst die Wünsche von den Lippen abliest. Nie war so viel BESTES in einem Programm.  Nie wurde Sprache und Musik klaviatorischer verbunden. Nie wurde so viel nach Luft geschnappt wie in diesem Programm. \n Lars Reichow\, der vielfache Preisträger\, Radio- und Fernsehmoderator zeigt die ganze Bandbreite seines künstlerischen Potentials als Kabarettist\, Comedian\, Pianist und Sänger. Und er zeigt Haltung: Klare Worte gegen Nationalismus\, Rassismus und ein Bekenntnis für ein weltoffenes Denken und Handeln. Ein unterhaltsamer und genussvoller Abend. \n Lars Reichow und sein Best of Programm „Wunschkonzert“ – ein sehr guter Grund\, um sich mit der Wirklichkeit zu beschäftigen. \nÜber Lars Reichow: \nLars Reichow (Jahrgang 1964) studierte an der Universität Mainz Musik\, Musikwissenschaften und Germanistik und gilt als einer der vielseitigsten Kabarettisten Deutschlands. Schon als 16jähriger ging er als Posaunist mit Hanns-Dieter Hüsch auf Tournee und entdeckte das Kabarett. Damit er auch sprechen und singen kann\, tauschte er die Posaune gegen das Klavier und ist seit Mitte der 90er Jahre als Solist auf allen deutschsprachigen Bühnen zuhause. Er wurde schnell zum „Klaviator“ und wurde mit vielen Preisen wie den Deutschen Kleinkunstpreis geehrt. \nBei SWR Kultur hat er mit der „Musikalischen Monatsrevue“ eine eigene Radiosendung\, ist ständiger Gast in allen TV- und Radio-Kabarett-Formaten. Reichow ist Moderator und Protagonist der SWR-Produktion „Comedy vom Rhein“\, in dem er auch als Musiker und Schauspieler agiert. Als Musiker und Moderator ist er ebenso auf Jazz- und Klassik-Festivals zuhause und in der Mainzer Fastnacht („Mainz bleibt Mainz“) aktiv. \nMit seinem aktuellen Programm „Boomerland“ ist er momentan auf Tournee. Neben den gesellschaftlichen Themen Ehe\, Familie und Alltag engagiert sich der überzeugte Europäer Reichow für die Verteidigung der Ukraine und gilt als scharfer Kritiker rechtsextremer und nationalistischer Tendenzen in Deutschland. \nAUSVERKAUFT!
URL:https://filminsel-biblis.de/event/lars-reichow-wunschkonzert-13-05-2026/
LOCATION:Filminsel Biblis\, Hintergasse 3\, Biblis\, 68647\, Deutschland
CATEGORIES:Comedy,Kabarett,Konzert
ATTACH;FMTTYPE=image/jpeg:https://filminsel-biblis.de/WordPress_02/wp-content/uploads/2025/07/Veranstaltungshinweis_260513.jpg
ORGANIZER;CN="Die Filminsel - komm. Kino Biblis e.V.":MAILTO:info@filminsel-biblis.de
END:VEVENT
END:VCALENDAR