BEGIN:VCALENDAR
VERSION:2.0
PRODID:-//Die Filminsel - komm. Kino Biblis e.V. - ECPv6.15.20//NONSGML v1.0//EN
CALSCALE:GREGORIAN
METHOD:PUBLISH
X-WR-CALNAME:Die Filminsel - komm. Kino Biblis e.V.
X-ORIGINAL-URL:https://filminsel-biblis.de
X-WR-CALDESC:Veranstaltungen für Die Filminsel - komm. Kino Biblis e.V.
REFRESH-INTERVAL;VALUE=DURATION:PT1H
X-Robots-Tag:noindex
X-PUBLISHED-TTL:PT1H
BEGIN:VTIMEZONE
TZID:Europe/Berlin
BEGIN:DAYLIGHT
TZOFFSETFROM:+0100
TZOFFSETTO:+0200
TZNAME:CEST
DTSTART:20250330T010000
END:DAYLIGHT
BEGIN:STANDARD
TZOFFSETFROM:+0200
TZOFFSETTO:+0100
TZNAME:CET
DTSTART:20251026T010000
END:STANDARD
BEGIN:DAYLIGHT
TZOFFSETFROM:+0100
TZOFFSETTO:+0200
TZNAME:CEST
DTSTART:20260329T010000
END:DAYLIGHT
BEGIN:STANDARD
TZOFFSETFROM:+0200
TZOFFSETTO:+0100
TZNAME:CET
DTSTART:20261025T010000
END:STANDARD
BEGIN:DAYLIGHT
TZOFFSETFROM:+0100
TZOFFSETTO:+0200
TZNAME:CEST
DTSTART:20270328T010000
END:DAYLIGHT
BEGIN:STANDARD
TZOFFSETFROM:+0200
TZOFFSETTO:+0100
TZNAME:CET
DTSTART:20271031T010000
END:STANDARD
END:VTIMEZONE
BEGIN:VEVENT
DTSTART;TZID=Europe/Berlin:20260916T200000
DTEND;TZID=Europe/Berlin:20260916T220000
DTSTAMP:20260422T172453
CREATED:20260406T132955Z
LAST-MODIFIED:20260412T165355Z
UID:2233-1789588800-1789596000@filminsel-biblis.de
SUMMARY:Peter Kunz - Hesskalation
DESCRIPTION:Peter Kunz ist Stand-Up-Comedian aus Hessen\, der mit seinem Humor die ganze Republik erobert. \nGrundsätzlich ist er ein entspannter Typ. Aber wehe\, jemand bestellt Apfelwein mit Cola. Dann kommt es schon mal zur Eskalation – Verzeihung\, HESSKALATION. \nIn seiner brandneuen Show nimmt Peter Kunz das Publikum wieder mit auf eine Reise durch die kleinen und großen Absurditäten des Lebens. Alles\, was er erzählt\, hat er auch wirklich erlebt – oder frei erfunden. \nOb im legendären Quatsch Comedy Club oder bei seinen gefeierten Auftritten quer durch die Nation – Kunz bringt seine Zuschauer zurück in die verrückten 80er\, die wilden 90er und mitten in den völlig durchgeknallten Wahnsinn von heute. \nMit seiner Social-Media-Serie „Hessisch für Anfänger“ hat er weit über 3 Millionen Menschen begeistert. \nHessisch-lässig und doch manchmal am Rande der HESSKALATION! \nSichere dir jetzt die letzten Tickets und erlebe Peter Kunz live – authentisch\, schlagfertig und garantiert zum Totlachen! \nVORVERKAUF: Karten sind im Vorverkauf zu 25\,- Euro (Abendkasse 27\,- Euro) bei Hollerbach Biblis\, Euronics Preuss in Bürstadt\, an der Kinokasse und auf www.filminsel-biblis.de/ticketshop erhältlich!
URL:https://filminsel-biblis.de/event/peter-kunz-hesskalation-16-09-2026/
LOCATION:Filminsel Biblis\, Hintergasse 3\, Biblis\, 68647\, Deutschland
CATEGORIES:Comedy,Kabarett
ATTACH;FMTTYPE=image/jpeg:https://filminsel-biblis.de/WordPress_02/wp-content/uploads/2025/07/Veranstaltungshinweis_260916.jpg
ORGANIZER;CN="Die Filminsel - komm. Kino Biblis e.V.":MAILTO:info@filminsel-biblis.de
END:VEVENT
END:VCALENDAR