BEGIN:VCALENDAR
VERSION:2.0
PRODID:-//Die Filminsel - komm. Kino Biblis e.V. - ECPv6.15.20//NONSGML v1.0//EN
CALSCALE:GREGORIAN
METHOD:PUBLISH
X-WR-CALNAME:Die Filminsel - komm. Kino Biblis e.V.
X-ORIGINAL-URL:https://filminsel-biblis.de
X-WR-CALDESC:Veranstaltungen für Die Filminsel - komm. Kino Biblis e.V.
REFRESH-INTERVAL;VALUE=DURATION:PT1H
X-Robots-Tag:noindex
X-PUBLISHED-TTL:PT1H
BEGIN:VTIMEZONE
TZID:Europe/Berlin
BEGIN:DAYLIGHT
TZOFFSETFROM:+0100
TZOFFSETTO:+0200
TZNAME:CEST
DTSTART:20250330T010000
END:DAYLIGHT
BEGIN:STANDARD
TZOFFSETFROM:+0200
TZOFFSETTO:+0100
TZNAME:CET
DTSTART:20251026T010000
END:STANDARD
BEGIN:DAYLIGHT
TZOFFSETFROM:+0100
TZOFFSETTO:+0200
TZNAME:CEST
DTSTART:20260329T010000
END:DAYLIGHT
BEGIN:STANDARD
TZOFFSETFROM:+0200
TZOFFSETTO:+0100
TZNAME:CET
DTSTART:20261025T010000
END:STANDARD
BEGIN:DAYLIGHT
TZOFFSETFROM:+0100
TZOFFSETTO:+0200
TZNAME:CEST
DTSTART:20270328T010000
END:DAYLIGHT
BEGIN:STANDARD
TZOFFSETFROM:+0200
TZOFFSETTO:+0100
TZNAME:CET
DTSTART:20271031T010000
END:STANDARD
END:VTIMEZONE
BEGIN:VEVENT
DTSTART;TZID=Europe/Berlin:20261014T200000
DTEND;TZID=Europe/Berlin:20261014T220000
DTSTAMP:20260422T184708
CREATED:20250729T133058Z
LAST-MODIFIED:20260114T091126Z
UID:2235-1792008000-1792015200@filminsel-biblis.de
SUMMARY:Ulan & Bator - Undsinn
DESCRIPTION:UNDSINN\nDie Welt steht Kopf. Ist es möglich\, darüber zu lachen\, ohne den Kopf dabei auszuschalten? \nIst es möglich\, sich in Leichtigkeit zu vergessen\, ohne Realitätsflucht zu begehen? \nEs ist! Man erlebe einfach Ulan & Bator. Ihre Antwort auf jegliche Sinnkrise heißt: Undsinn! \nBei Sinnkrise: Undsinn! Nach Wirrklichkeit\, Irreparabeln und Zukunst das neue Programm der beiden preisgekrönten Clowns unter den Intellektuellen\, den Künstlern unter den Comedians\, den Dadaisten unter den Witzbolden. Ein Abend\, der Lachmuskeln und Geist gleichermaßen anregt. \n„Die Erben Monty Pythons“ (Süddeutsche Zeitung vom 27.05.2024) \nNur wenigen Bühnenkünstlern kann man nachsagen\, eine ganz eigene Kunstform erschaffen zu haben. Ulan & Bator arbeiten seit mehr als 20 Jahren an ihrem „Krazy Kabarett“ und sind im deutschsprachigen Raum einzigartig. „Im Reich des Undsinns“\, schreibt die Süddeutsche Zeitung anlässlich der Premiere im Münchner Lustspielhaus am 25. Mai 2024\, „spiegelt sich die reale Welt als absurde\, groteske Parodie.“ \n„Ein Höhepunkt der Saison“ (Münchner Abendzeitung vom 27.05.2024) \nGlänzendes Theaterhandwerk ohne Einspieler\, Lichtwechsel und Requisiten – die Spielfreude\, die Sebastian Rüger und Frank Smilgies als Ulan & Bator auf der Bühne in Szenen\, Liedern\, Tänzen und Grotesken entfesseln\, ist längst legendär. Am neuen Programm faszinieren außerdem Musikalität und mitreißendes Tempo. So albern wie anspruchsvoll entwerfen die beiden Schauspieler ständig neue Welten\, flirrend zwischen allen Genres – eine wundervoll vergängliche Bühnenkunst\, die im Moment zwischen Künstlern und Publikum erfahrbar wird. \n„Ulan & Bator sind zu wahr\, um verrückt zu sein.“ (ein Fan) \nEin wohltuender Mittelfinger in Richtung digitale Wiederverwertbarkeit\, ein Konter gegen jede KI\, eine verzückende Verbeugung gegenüber dem Geistreichen mit atemraubend anhaltender Wirkung. \nDas erwartet Sie: Antike Kräuter-Klage\, Hochliteratur trifft Kiefernarkose\, Wacken versus Sibirien\, streikendes Echo\, Aale am rechten Rand\, Fußball im Dichterolymp\, TV-Talk aus der Hölle… und einiges mehr. Undsinn muss man einfach erleben. \nVORVERKAUF: Karten sind im Vorverkauf zu 21\,- Euro (Abendkasse 24\,- Euro) bei Hollerbach Biblis\, Euronics Preuss in Bürstadt\, an der Kinokasse und auf www.filminsel-biblis.de/ticketshop erhältlich!
URL:https://filminsel-biblis.de/event/ulan-bator-undsinn-14-10-2026/
LOCATION:Filminsel Biblis\, Hintergasse 3\, Biblis\, 68647\, Deutschland
CATEGORIES:Comedy,Kabarett
ATTACH;FMTTYPE=image/jpeg:https://filminsel-biblis.de/WordPress_02/wp-content/uploads/2025/07/Veranstaltungshinweis_261014.jpg
ORGANIZER;CN="Die Filminsel - komm. Kino Biblis e.V.":MAILTO:info@filminsel-biblis.de
END:VEVENT
END:VCALENDAR